BEGIN:VCALENDAR
VERSION:2.0
PRODID:-//EZ How - ECPv6.15.0.1//NONSGML v1.0//EN
CALSCALE:GREGORIAN
METHOD:PUBLISH
X-WR-CALNAME:EZ How
X-ORIGINAL-URL:https://ezhow.net/resources
X-WR-CALDESC:Events for EZ How
REFRESH-INTERVAL;VALUE=DURATION:PT1H
X-Robots-Tag:noindex
X-PUBLISHED-TTL:PT1H
BEGIN:VTIMEZONE
TZID:America/Chicago
BEGIN:DAYLIGHT
TZOFFSETFROM:-0600
TZOFFSETTO:-0500
TZNAME:CDT
DTSTART:20250309T080000
END:DAYLIGHT
BEGIN:STANDARD
TZOFFSETFROM:-0500
TZOFFSETTO:-0600
TZNAME:CST
DTSTART:20251102T070000
END:STANDARD
BEGIN:DAYLIGHT
TZOFFSETFROM:-0600
TZOFFSETTO:-0500
TZNAME:CDT
DTSTART:20260308T080000
END:DAYLIGHT
BEGIN:STANDARD
TZOFFSETFROM:-0500
TZOFFSETTO:-0600
TZNAME:CST
DTSTART:20261101T070000
END:STANDARD
BEGIN:DAYLIGHT
TZOFFSETFROM:-0600
TZOFFSETTO:-0500
TZNAME:CDT
DTSTART:20270314T080000
END:DAYLIGHT
BEGIN:STANDARD
TZOFFSETFROM:-0500
TZOFFSETTO:-0600
TZNAME:CST
DTSTART:20271107T070000
END:STANDARD
BEGIN:DAYLIGHT
TZOFFSETFROM:-0600
TZOFFSETTO:-0500
TZNAME:CDT
DTSTART:20280312T080000
END:DAYLIGHT
BEGIN:STANDARD
TZOFFSETFROM:-0500
TZOFFSETTO:-0600
TZNAME:CST
DTSTART:20281105T070000
END:STANDARD
END:VTIMEZONE
BEGIN:VEVENT
DTSTART;TZID=America/Chicago:20250821T000000
DTEND;TZID=America/Chicago:20280821T235959
DTSTAMP:20260419T210456
CREATED:20250822T001940Z
LAST-MODIFIED:20250822T003033Z
UID:96-1755734400-1850515199@ezhow.net
SUMMARY:Search Terms and Ideas
DESCRIPTION:To help you find exactly what you are looking for\, we’ve assigned tags to every event listing. Not only are they organized by date\, you can also search by region of the United States and state.  We are looking every day for more opportunities\, and we welcome your suggestions. \nWe need: \nName of the event\nDate/s it will be held\nTimes if relevant\nDescription of the event\nWhat will the author get out of it?(i.e. book signing\, book sales\, meet and greet\, retreat\, classes\, etc)\nEvent website for more information\nVenue name\nVenue address\nOrganizer name\nOrganizer website or other contact information \nbooksales\, BookSigning\, Reading\, retreat
URL:https://ezhow.net/resources/event/search-terms-and-ideas/
LOCATION:IN
END:VEVENT
BEGIN:VEVENT
DTSTART;TZID=America/Chicago:20260425T000000
DTEND;TZID=America/Chicago:20260426T235959
DTSTAMP:20260419T210456
CREATED:20250821T235414Z
LAST-MODIFIED:20250822T000107Z
UID:87-1777075200-1777247999@ezhow.net
SUMMARY:New England Book Ball
DESCRIPTION:Bring a friend or two on a bucket list destination and come to the first annual Mount Washington Book Ball! With over 50 romance/fantasy authors and 20 fun and unique vendors\, this is sure to be a dream weekend for any reader! Being one of the most sought after resorts in New England\, the Mountain Grand View Resort & Spa has also extended the discounted room rate offered to the vendors to you! (room rate has been dropped from TBD – sharing a room is the way to go!) \nSaturday we will open the event at 11am and you will be able to meet authors\, SHOP\, and attend fun panels and games\, all the while being in a magical setting built for royalty (literally). At 6pm the vendor portion will close for the night and those attending the dinner will be escorted to the Ball Room for a delicous meal followed by music\, mingling and drinks! A perfect way for you to meet the authors on a more personal level. \nSunday we will open at 11 and you will have a few more hours to snag anything you may have missed the day before and visit an author’s table you met during the party. The raffle winners will be announced at 3pm on Sunday and you will NOT want to miss that! 100% of the proceeds of the book raffle will be donated to the Doug Flutie Foundation to support families and schools living with autism. The entire event ends at 4pm. \nThere is a lovely breakfast buffet offered at the hotel for $30 per person roughly.
URL:https://ezhow.net/resources/event/new-england-book-ball/
LOCATION:Mountain View Grand Resort & Spa\, 101 Mountain View Road\, Whitefield\, NH\, 03598\, United States
CATEGORIES:New England,New Hampshire
END:VEVENT
BEGIN:VEVENT
DTSTART;TZID=America/Chicago:20260516T110000
DTEND;TZID=America/Chicago:20260516T220000
DTSTAMP:20260419T210456
CREATED:20250821T191017Z
LAST-MODIFIED:20250821T191017Z
UID:74-1778929200-1778968800@ezhow.net
SUMMARY:Frisky in the Field Book Blast
DESCRIPTION:Let’s get ready for Frisky in the Field 2026 at the Sheldon Event Center in Sheldon\, Iowa. \n\n\n\n Frisky in the Field Book Blast \n\n\n\n\nThe signing will happen May 16\, 2026\, and it will be a one day event beginning with a early admission and general admission to follow. There is lodging directly next door\, as well as food in walking distance. A themed afterparty will held that evening.\n\n\nCome and join the fun!\n\n\n\n Attendees group: https://www.facebook.com/share/g/RkVYdiZ9hovaKZ4K\n\n\n Event page: https://www.facebook.com/share/RkazoRmcEhZYgsuG/?mibextid=9l3rBW\n\n\n Author interest form: https://docs.google.com/…/1rkirKpvY1LFQyx…/\n\n\n Sponsor this event: https://forms.gle/B8Kv5SpyqaPi9jQJ9
URL:https://ezhow.net/resources/event/frisky-in-the-field-book-blast/
LOCATION:Sheldon Event Center\, 301 34th Ave\, Sheldon\, IA\, 51201\, United States
CATEGORIES:Iowa,Midwest
END:VEVENT
BEGIN:VEVENT
DTSTART;TZID=America/Chicago:20260731T000000
DTEND;TZID=America/Chicago:20260801T235959
DTSTAMP:20260419T210456
CREATED:20250821T191658Z
LAST-MODIFIED:20250821T191947Z
UID:77-1785456000-1785628799@ezhow.net
SUMMARY:Pages of Glass: Romancing the Glass City
DESCRIPTION:Pages of Glass 2026: Romancing the Glass City will be taking place on AUGUST 1\, 2026.\nApplications are open: https://forms.gle/Nhr9s2GPxx6Zqynw5Sponsor: https://forms.gle/X3CT2Y4UUNE3xJwB9\nAttending authors\, vendors and bookstores will be announced September 30th. Tickets go on sale November 1st.\nMeet & Greet: July 31st\, 2026 | 6:30 – 8:30PM ($30)VIP Shopping: August 1\, 2026 | 10:30 – 11:30AM ($15)GA Shopping: August 1\, 2026 | 12:30 – 4:30PM ($5)
URL:https://ezhow.net/resources/event/pages-of-glass-romancing-the-glass-city/
LOCATION:Lucas County Recreation Center\, 2901 Key St\, Maumee\, OH\, 43537\, United States
CATEGORIES:Midwest,Ohio
END:VEVENT
END:VCALENDAR