BEGIN:VCALENDAR
VERSION:2.0
PRODID:-//EZ How - ECPv6.15.0.1//NONSGML v1.0//EN
CALSCALE:GREGORIAN
METHOD:PUBLISH
X-ORIGINAL-URL:https://ezhow.net/resources
X-WR-CALDESC:Events for EZ How
REFRESH-INTERVAL;VALUE=DURATION:PT1H
X-Robots-Tag:noindex
X-PUBLISHED-TTL:PT1H
BEGIN:VTIMEZONE
TZID:America/Chicago
BEGIN:DAYLIGHT
TZOFFSETFROM:-0600
TZOFFSETTO:-0500
TZNAME:CDT
DTSTART:20260308T080000
END:DAYLIGHT
BEGIN:STANDARD
TZOFFSETFROM:-0500
TZOFFSETTO:-0600
TZNAME:CST
DTSTART:20261101T070000
END:STANDARD
END:VTIMEZONE
BEGIN:VEVENT
DTSTART;TZID=America/Chicago:20260731T000000
DTEND;TZID=America/Chicago:20260801T235959
DTSTAMP:20260422T055744
CREATED:20250821T191658Z
LAST-MODIFIED:20250821T191947Z
UID:77-1785456000-1785628799@ezhow.net
SUMMARY:Pages of Glass: Romancing the Glass City
DESCRIPTION:Pages of Glass 2026: Romancing the Glass City will be taking place on AUGUST 1\, 2026.\nApplications are open: https://forms.gle/Nhr9s2GPxx6Zqynw5Sponsor: https://forms.gle/X3CT2Y4UUNE3xJwB9\nAttending authors\, vendors and bookstores will be announced September 30th. Tickets go on sale November 1st.\nMeet & Greet: July 31st\, 2026 | 6:30 – 8:30PM ($30)VIP Shopping: August 1\, 2026 | 10:30 – 11:30AM ($15)GA Shopping: August 1\, 2026 | 12:30 – 4:30PM ($5)
URL:https://ezhow.net/resources/event/pages-of-glass-romancing-the-glass-city/
LOCATION:Lucas County Recreation Center\, 2901 Key St\, Maumee\, OH\, 43537\, United States
CATEGORIES:Midwest,Ohio
END:VEVENT
END:VCALENDAR