BEGIN:VCALENDAR
VERSION:2.0
PRODID:-//EZ How - ECPv6.15.0.1//NONSGML v1.0//EN
CALSCALE:GREGORIAN
METHOD:PUBLISH
X-WR-CALNAME:EZ How
X-ORIGINAL-URL:https://ezhow.net/resources
X-WR-CALDESC:Events for EZ How
REFRESH-INTERVAL;VALUE=DURATION:PT1H
X-Robots-Tag:noindex
X-PUBLISHED-TTL:PT1H
BEGIN:VTIMEZONE
TZID:America/Chicago
BEGIN:DAYLIGHT
TZOFFSETFROM:-0600
TZOFFSETTO:-0500
TZNAME:CDT
DTSTART:20250309T080000
END:DAYLIGHT
BEGIN:STANDARD
TZOFFSETFROM:-0500
TZOFFSETTO:-0600
TZNAME:CST
DTSTART:20251102T070000
END:STANDARD
END:VTIMEZONE
BEGIN:VEVENT
DTSTART;TZID=America/Chicago:20251024T000000
DTEND;TZID=America/Chicago:20251026T235959
DTSTAMP:20260422T040611
CREATED:20250822T002555Z
LAST-MODIFIED:20250822T002555Z
UID:99-1761264000-1761523199@ezhow.net
SUMMARY:Bookish Retreat
DESCRIPTION:Friday \n\n5 pm Check-in w/ charcuterie\n7 pm Games\n\n\n\n\n\n\n\n\n\n\n\n\n\nSaturday \n\n8 am Continental Breakfast\n9 am Norwex Facials with Jeanine\n12 pm Box Lunch\n2 pm Bookish Craft\n5 pm Dinner (Roast\, Potatoes\, Salad)\n\n\n\n\n\n\n\n\n\n\n\n\n\nSunday \n\n8 am Continental Breakfast\n10 pm Bookish Craft\n12 pm Snacks\n3 pm checkout
URL:https://ezhow.net/resources/event/bookish-retreat/
LOCATION:Private\, Laporte\, IN\, United States
CATEGORIES:Great Lakes,Indiana
END:VEVENT
BEGIN:VEVENT
DTSTART;TZID=America/Chicago:20250920T000000
DTEND;TZID=America/Chicago:20250921T235959
DTSTAMP:20260422T040611
CREATED:20250821T234635Z
LAST-MODIFIED:20250821T234635Z
UID:84-1758326400-1758499199@ezhow.net
SUMMARY:Getting Witchy With It
DESCRIPTION:https://anytimeauthorpromotionsevents.com/getting-witchy-with-it-in-salem/
URL:https://ezhow.net/resources/event/getting-witchy-with-it/
LOCATION:Boston Marriott Peabody\, 8A Centennial Dr\, Peabody\, MA\, 01960\, United States
CATEGORIES:Massachusetts,New England
END:VEVENT
BEGIN:VEVENT
DTSTART;TZID=America/Chicago:20250823T100000
DTEND;TZID=America/Chicago:20250823T150000
DTSTAMP:20260422T040611
CREATED:20250822T000822Z
LAST-MODIFIED:20250822T000822Z
UID:92-1755943200-1755961200@ezhow.net
SUMMARY:Acworth Book & Storytelling Festival
DESCRIPTION:Whether you’re a reader\, writer\, or lover of stories in all forms\, the Acworth Book & Storytelling Festival offers something for everyone. Come be inspired\, meet fellow book lovers\, and explore the art of storytelling in its many voices.\nAdmission is FREE and open to all ages.\nFollow us on social media @AcworthCulturalArts for updates.
URL:https://ezhow.net/resources/event/acworth-book-storytelling-festival/
LOCATION:The Roberts School\, 4681 School St\, Acworth\, GA\, 30101\, United States
CATEGORIES:Georgia,Southeast
END:VEVENT
END:VCALENDAR